Workbook

Sheet Mensual
C2: RECAUDO DEL FONDO PARA EL DESARROLLO CINEMATOGRÁFICO
B5: AÑO | C5: MES | D5: RECAUDO Pesos
B6: 2003 | C6: Ago-dic-03 | D6: 1851018568
B7: 2004 | C7: enero | D7: 685204374
C8: febrero | D8: 414380218
C9: marzo | D9: 646230786
C10: abril | D10: 589865486
C11: mayo | D11: 499039702
C12: junio | D12: 778590046
C13: julio | D13: 716098337
C14: agosto | D14: 428931925
C15: septiembre | D15: 328962874
C16: octubre | D16: 344908053
C17: noviembre | D17: 374784909
C18: diciembre | D18: 587929909
B19: 2005 | C19: enero | D19: 677037203
C20: febrero | D20: 372980196
C21: marzo | D21: 490139322
C22: abril | D22: 344569502
C23: mayo | D23: 439025385
C24: junio | D24: 647844559
C25: julio | D25: 715543913
C26: agosto | D26: 412111941
C27: septiembre | D27: 302942289
C28: octubre | D28: 366702625
C29: noviembre | D29: 518071074
C30: diciembre | D30: 5.2979014e+08
B31: 2006 | C31: enero | D31: 666371833
C32: febrero | D32: 321978676
C33: marzo | D33: 418848882
C34: abril | D34: 7.0354545e+08
C35: mayo | D35: 656239747
C36: junio | D36: 689515004
C37: julio | D37: 752501338
C38: agosto | D38: 529923654
C39: septiembre | D39: 340887514
C40: octubre | D40: 289875649
C41: noviembre | D41: 3.940389e+08
C42: diciembre | D42: 5.5355041e+08
B43: 2007 | C43: enero | D43: 662403784
C44: febrero | D44: 379611150
C45: marzo | D45: 385440130
C46: abril | D46: 586136406
C47: mayo | D47: 671447600
C48: junio | D48: 780921072
C49: julio | D49: 1084745107
C50: agosto | D50: 550489618
C51: septiembre | D51: 293685247
C52: octubre | D52: 302526151
C53: noviembre | D53: 347679300
C54: diciembre | D54: 524534021
B55: 2008 | C55: enero | D55: 6.7793617e+08
C56: febrero | D56: 405311907
C57: marzo | D57: 5.6485922e+08
C58: abril | D58: 3.8468963e+08
C59: mayo | D59: 6.0029571e+08
C60: junio | D60: 8.1446917e+08
C61: julio | D61: 7.4363261e+08
C62: agosto | D62: 5.8744782e+08
C63: septiembre | D63: 3.73091e+08
C64: octubre | D64: 5.2418423e+08
C65: noviembre | D65: 6.0404718e+08
C66: diciembre | D66: 6.2777138e+08
B67: 2009 | C67: enero | D67: 845444129
C68: febrero | D68: 511298173
C69: marzo | D69: 524051079
C70: abril | D70: 676469077
C71: mayo | D71: 750368951
C72: junio | D72: 1.1174681e+09
C73: julio | D73: 1.4925806e+09
C74: agosto | D74: 9.1120728e+08
C75: septiembre | D75: 4.7322222e+08
C76: octubre | D76: 5.6243657e+08
C77: noviembre | D77: 7.8982956e+08
C78: diciembre | D78: 1.1918584e+09
B79: 2010 | C79: enero | D79: 1.250545e+09
C80: febrero | D80: 8.5463853e+08
C81: marzo | D81: 1.0895839e+09
C82: abril | D82: 936624782
C83: mayo | D83: 1109312156
C84: junio | D84: 1.3799729e+09
C85: julio | D85: 1779091036
C86: agosto | D86: 1175217637
C87: septiembre | D87: 9.3708912e+08
C88: octubre | D88: 9.7363949e+08
C89: noviembre | D89: 1.0598126e+09
C90: diciembre | D90: 1.2349755e+09
B91: 2011 | C91: enero | D91: 1.5149979e+09
C92: febrero | D92: 2232413591
C93: marzo | D93: =891116426.01-270000 -> 8.9084643e+08
C94: abril | D94: 1.2169258e+09
C95: mayo | D95: 1219839182
C96: junio | D96: 1.4641682e+09
C97: julio | D97: 1679423506
C98: agosto | D98: 1.3538284e+09
C99: septiembre | D99: 938444124
C100: octubre | D100: 1.0189224e+09
C101: noviembre | D101: 915261157
C102: diciembre | D102: 1.1846818e+09
B103: 2012 | C103: enero | D103: 1461162554
...

Sheet Anual
B2: RECAUDO - FONDO PARA EL DESARROLLO CINEMATOGRÁFICO
B5: AÑO | C5: VALOR RECAUDO
B6: 2003 | C6: =+SUM(Mensual!D6) -> 1851018568
B7: 2004 | C7: =+SUM(Mensual!D7:D18) -> 6394926619
B8: 2005 | C8: =+SUM(Mensual!D19:D30) -> 5.8167581e+09
B9: 2006 | C9: =+SUM(Mensual!D31:D42) -> 6.3172771e+09
B10: 2007 | C10: =+SUM(Mensual!D43:D54) -> 6569619586
B11: 2008 | C11: =+SUM(Mensual!D55:D66) -> 6.907736e+09
B12: 2009 | C12: =+SUM(Mensual!D67:D78) -> 9.8462341e+09
B13: 2010 | C13: =SUM(Mensual!D79:D90) -> 1.3780503e+10
B14: 2011 | C14: =SUM(Mensual!D91:D102) -> 1.5629752e+10
B15: 2012 | C15: =SUM(Mensual!D103:D114) -> 15867630786
B16: 2013 | C16: =SUM(Mensual!D115:D126) -> 1.713901e+10
B17: 2014 | C17: =SUM(Mensual!D127:D138) -> 1.8818198e+10
B18: 2015 | C18: =SUM(Mensual!D139:D150) -> 2.4122315e+10
B19: 2016 | C19: =SUM(Mensual!D151:D162) -> 2.5951686e+10
B20: 2017 | C20: =SUM(Mensual!D163:D174) -> 27542972272
B21: 2018 | C21: =SUM(Mensual!D175:D186) -> 28156339887
B22: 2019 | C22: =SUM(Mensual!D187:D198) -> 33273191000
B23: 2020 | C23: =SUM(Mensual!D199:D210) -> 5964563865
B24: 2021 | C24: =SUM(Mensual!D211:D222) -> 15767094965
B25: 2022 | C25: =SUM(Mensual!D223:D234) -> 24039767000
B26: 2023 | C26: =SUM(Mensual!D235:D246) -> 33136853000
B27: 2024 | C27: =SUM(Mensual!D247:D258) -> 30132824000
B28: 2025 | C28: =SUM(Mensual!D259:D270) -> 32723464000
B29: 2026 | C29: =SUM(Mensual!D271:D282) -> 18797360000
B30: TOTAL | C30: =SUM(C6:C29) -> 4.245471e+11
B32: Última actualización: 26/08/2026
