Workbook

Sheet Mensual
C2: RECAUDO DEL FONDO PARA EL DESARROLLO CINEMATOGRÁFICO
B5: AÑO | C5: MES | D5: RECAUDO Pesos
B6: 2003 | C6: Ago-dic-03 | D6: 1851018568
B7: 2004 | C7: enero | D7: 685204374
C8: febrero | D8: 414380218
C9: marzo | D9: 646230786
C10: abril | D10: 589865486
C11: mayo | D11: 499039702
C12: junio | D12: 778590046
C13: julio | D13: 716098337
C14: agosto | D14: 428931925
C15: septiembre | D15: 328962874
C16: octubre | D16: 344908053
C17: noviembre | D17: 374784909
C18: diciembre | D18: 587929909
B19: 2005 | C19: enero | D19: 677037203
C20: febrero | D20: 372980196
C21: marzo | D21: 490139322
C22: abril | D22: 344569502
C23: mayo | D23: 439025385
C24: junio | D24: 647844559
C25: julio | D25: 715543913
C26: agosto | D26: 412111941
C27: septiembre | D27: 302942289
C28: octubre | D28: 366702625
C29: noviembre | D29: 518071074
C30: diciembre | D30: 5.2979014e+08
B31: 2006 | C31: enero | D31: 666371833
C32: febrero | D32: 321978676
C33: marzo | D33: 418848882
C34: abril | D34: 7.0354545e+08
C35: mayo | D35: 656239747
C36: junio | D36: 689515004
C37: julio | D37: 752501338
C38: agosto | D38: 529923654
C39: septiembre | D39: 340887514
C40: octubre | D40: 289875649
C41: noviembre | D41: 3.940389e+08
C42: diciembre | D42: 5.5355041e+08
B43: 2007 | C43: enero | D43: 662403784
...

Sheet Anual
B2: RECAUDO - FONDO PARA EL DESARROLLO CINEMATOGRÁFICO
B5: AÑO | C5: VALOR RECAUDO
B6: 2003 | C6: =+SUM(Mensual!D6) -> 1851018568
B7: 2004 | C7: =+SUM(Mensual!D7:D18) -> 6394926619
B8: 2005 | C8: =+SUM(Mensual!D19:D30) -> 5.8167581e+09
B9: 2006 | C9: =+SUM(Mensual!D31:D42) -> 6.3172771e+09
B10: 2007 | C10: =+SUM(Mensual!D43:D54) -> 6569619586
B11: 2008 | C11: =+SUM(Mensual!D55:D66) -> 6.907736e+09
B12: 2009 | C12: =+SUM(Mensual!D67:D78) -> 9.8462341e+09
B13: 2010 | C13: =SUM(Mensual!D79:D90) -> 1.3780503e+10
B14: 2011 | C14: =SUM(Mensual!D91:D102) -> 1.5629752e+10
B15: 2012 | C15: =SUM(Mensual!D103:D114) -> 15867630786
B16: 2013 | C16: =SUM(Mensual!D115:D126) -> 1.713901e+10
B17: 2014 | C17: =SUM(Mensual!D127:D138) -> 1.8818198e+10
B18: 2015 | C18: =SUM(Mensual!D139:D150) -> 2.4122315e+10
B19: 2016 | C19: =SUM(Mensual!D151:D162) -> 2.5951686e+10
B20: 2017 | C20: =SUM(Mensual!D163:D174) -> 27542972272
B21: 2018 | C21: =SUM(Mensual!D175:D186) -> 28156339887
B22: 2019 | C22: =SUM(Mensual!D187:D198) -> 33273191000
B23: 2020 | C23: =SUM(Mensual!D199:D210) -> 5964563865
B24: 2021 | C24: =SUM(Mensual!D211:D222) -> 15767094965
B25: 2022 | C25: =SUM(Mensual!D223:D234) -> 24039767000
B26: 2023 | C26: =SUM(Mensual!D235:D246) -> 33136853000
B27: 2024 | C27: =SUM(Mensual!D247:D258) -> 30132824000
B28: 2025 | C28: =SUM(Mensual!D259:D270) -> 32723464000
B29: 2026 | C29: =SUM(Mensual!D271:D282) -> 18797360000
B30: TOTAL | C30: =SUM(C6:C29) -> 4.245471e+11
B32: Última actualización: 26/08/2026
